BEGIN:VCALENDAR
VERSION:2.0
PRODID:-//Stadtgeschichte München//DE
CALSCALE:GREGORIAN
BEGIN:VEVENT
UID:16508@stadtgeschichte-muenchen.de
SUMMARY:Kurt Eisner - Eich Mühsam - Gustav Landauer - Ernst Toller
DESCRIPTION:&lt;p&gt;Die Literaturwissenschaftlerin Laura Mokrohs präsentiert ihr Buch „Dichtung ist Revolution. Kurt Eisner - Erich Mühsam - Gustav Landauer - ErnstToller&quot;, das begleitend zur gleichnamigen Ausstellung im Verlag Friedrich Pustet erscheint.&lt;br /&gt; Laura Mokrohs Literaturwissenschaftlerin und Kuratorin&lt;br /&gt; Lesung: Thomas Birnstiel Sprecher und Schauspieler&lt;br /&gt; Grußwort : Friedrich Pustet Fritz Pustet Verlag&lt;/p&gt; 
DTSTART:20181127T190000
DTEND:20181127T000000
LOCATION:Monacensia im Hildebrandhaus , Forum Atelier
ORGANIZER:Monacensia
END:VEVENT
END:VCALENDAR