BEGIN:VCALENDAR
VERSION:2.0
PRODID:-//Stadtgeschichte München//DE
CALSCALE:GREGORIAN
BEGIN:VEVENT
UID:16521@stadtgeschichte-muenchen.de
SUMMARY:Klärung der Fronten: Die Münchner Räterepubliken
DESCRIPTION:&lt;p&gt;Nach dem Mord an dem charismatischen Kurt Eisner am 21. Februar 1919 zersplittert die Einheit der Revolutionäre. Unterschiedliche politische Ziele führen zu Auseinandersetzungen und Spaltungen, die der Revolution schaden. Ohne zu kommentieren, schildert Oskar Maria Graf in seinem Werk die verschiedenen Positionen der revolutionären Lager und liefert Einblicke in die Arbeit und Ansätze der Münchner Räterepubliken.&lt;br /&gt; Oliver Leeb Oskar-Maria-Graf-Gesellschaft&lt;br /&gt; Katrin Sorko Oskar-Maria-Graf -Gesellschaft&lt;/p&gt; &lt;p&gt;&lt;br /&gt; Musik :&lt;br /&gt; Josef Eder&lt;br /&gt; Maxi Pongratz&lt;br /&gt; Simon Ackermann&lt;/p&gt; 
DTSTART:20190430T200000
DTEND:20190430T000000
LOCATION:Riffraff
ORGANIZER:
END:VEVENT
END:VCALENDAR