BEGIN:VCALENDAR
VERSION:2.0
PRODID:-//Stadtgeschichte München//DE
CALSCALE:GREGORIAN
BEGIN:VEVENT
UID:16636@stadtgeschichte-muenchen.de
SUMMARY:Meisterwerke der Elfenbeinskulptur von Georg Petel
DESCRIPTION:
DTSTART:20190203T110000
DTEND:20190203T000000
LOCATION:Bayerisches Nationalmuaeum, Kassenraum
ORGANIZER:Bayerisches Nationalmuseum
END:VEVENT
END:VCALENDAR