BEGIN:VCALENDAR
VERSION:2.0
PRODID:-//Stadtgeschichte München//DE
CALSCALE:GREGORIAN
BEGIN:VEVENT
UID:16648@stadtgeschichte-muenchen.de
SUMMARY:Zeitlos schön
DESCRIPTION:
DTSTART:20190307T180000
DTEND:20190307T000000
LOCATION:Bayerisches Nationalmuaeum, Kassenraum
ORGANIZER:Bayerisches Nationalmuseum
END:VEVENT
END:VCALENDAR