BEGIN:VCALENDAR
VERSION:2.0
PRODID:-//Stadtgeschichte München//DE
CALSCALE:GREGORIAN
BEGIN:VEVENT
UID:167@stadtgeschichte-muenchen.de
SUMMARY:Kindheit bei Hofe
DESCRIPTION:Für Kinder ab vier Jahren mit ihren (Groß-)Eltern Welchen Tagesablauf gab es für Kinder bei Hofe? Wie sahen die Räume aus, in denen sie lebten, wie das Geschirr, von dem sie aßen? Wir wandeln auf den Spuren der feinen Kinder, Damen und Herren, durch die mehr als sechshundert Jahre alte Münchner Residenz. Spiegelkabinett, Ahnengalerie, Antiquarium, Miniaturkabinett-was euch wohl am besten gefällt?
DTSTART:20110812T140000
DTEND:20110812T160000
LOCATION:Residenzmuseum, Foyer â€¢ Max-Joseph-Platz 3
ORGANIZER:MVHS München Mitte   
END:VEVENT
END:VCALENDAR