BEGIN:VCALENDAR
VERSION:2.0
PRODID:-//Stadtgeschichte München//DE
CALSCALE:GREGORIAN
BEGIN:VEVENT
UID:1670@stadtgeschichte-muenchen.de
SUMMARY:Spiele und gesellschaftliches Vergnügen in der Renaissance
DESCRIPTION:
DTSTART:20120101T140000
DTEND:20120101T000000
LOCATION:Kassenraum
ORGANIZER:Bayerisches Nationalmuseum
END:VEVENT
END:VCALENDAR