BEGIN:VCALENDAR
VERSION:2.0
PRODID:-//Stadtgeschichte München//DE
CALSCALE:GREGORIAN
BEGIN:VEVENT
UID:1678@stadtgeschichte-muenchen.de
SUMMARY:Chalumeau, Klarinette und Bassetthorn
DESCRIPTION:
DTSTART:20120311T110000
DTEND:20120311T000000
LOCATION:Kassenraum
ORGANIZER:Bayerisches Nationalmuseum
END:VEVENT
END:VCALENDAR