BEGIN:VCALENDAR
VERSION:2.0
PRODID:-//Stadtgeschichte München//DE
CALSCALE:GREGORIAN
BEGIN:VEVENT
UID:1679@stadtgeschichte-muenchen.de
SUMMARY:Porzellan auf der Tafel
DESCRIPTION:
DTSTART:20120318T110000
DTEND:20120318T000000
LOCATION:Kassenraum
ORGANIZER:Bayerisches Nationalmuseum
END:VEVENT
END:VCALENDAR