BEGIN:VCALENDAR
VERSION:2.0
PRODID:-//Stadtgeschichte München//DE
CALSCALE:GREGORIAN
BEGIN:VEVENT
UID:1680@stadtgeschichte-muenchen.de
SUMMARY:Skulpturenschmuck aus dem Würzburger Hofgarten
DESCRIPTION:
DTSTART:20120325T110000
DTEND:20120325T000000
LOCATION:Kassenraum
ORGANIZER:Bayerisches Nationalmuseum
END:VEVENT
END:VCALENDAR