BEGIN:VCALENDAR
VERSION:2.0
PRODID:-//Stadtgeschichte München//DE
CALSCALE:GREGORIAN
BEGIN:VEVENT
UID:1685@stadtgeschichte-muenchen.de
SUMMARY:Von Otto von Wittelsbach bis  König Maximilian II. von Bayern
DESCRIPTION:
DTSTART:20120209T180000
DTEND:20120209T000000
LOCATION:Kassenraum
ORGANIZER:Bayerisches Nationalmuseum
END:VEVENT
END:VCALENDAR