BEGIN:VCALENDAR
VERSION:2.0
PRODID:-//Stadtgeschichte München//DE
CALSCALE:GREGORIAN
BEGIN:VEVENT
UID:16885@stadtgeschichte-muenchen.de
SUMMARY:Die USA in Straßennamen des Münchner Nordens
DESCRIPTION:&lt;p&gt;Im Münchner Norden spiegelt sich die intensive Beziehung der USA mit München - insbesondere im 20. Jahrhundert - in zahlreichen Straßen- und Kasernennamen wider. Es wurden amerikanische Mäzene wie August Heckscher, James Loeb oder John Davidson, aber auch Rockefeller und Erfinder wie William Morton oder Samuel Morse geehrt. Zudem waren viele prominente Münchner wie Lion Feuchtwanger, Bruno Frank, Leonhard Frank oder Ernst Toller in den USA im Exil, deren Namen sich ebenfalls in Straßen des Münchner Nordens wiederfinden. Auch US-Bundesstaaten wie Alabama und Virginia, die Namen von Kasernen und anderen Örtlichkeiten prägten, sind bis heute präsent.&lt;/p&gt; 
DTSTART:20190206T180000
DTEND:20190206T000000
LOCATION:Volkshochschule, Blodigstr. 4
ORGANIZER:MVHS München Nord
END:VEVENT
END:VCALENDAR