BEGIN:VCALENDAR
VERSION:2.0
PRODID:-//Stadtgeschichte München//DE
CALSCALE:GREGORIAN
BEGIN:VEVENT
UID:16888@stadtgeschichte-muenchen.de
SUMMARY:Der Englische Garten in München
DESCRIPTION:&lt;p&gt;Der Englische Garten in München ist ein Gartenkunstwerk von internationalem Rang. 1789 als einer der ersten Volksgärten gegründet, ist er mit dem Lebensgefühl der Münchnerinnen und Münchner und dem Image ihrer Stadt in der Welt heute untrennbar verbunden. Die hohe Qualität der Gartengestaltung, die Wege, Wiesen, Gehölze, Wasserflächen machen den Englischen Garten zu einem ganz besonderen öffentlichen Ort mitten in der Stadt.&lt;/p&gt; &lt;p&gt;Eine Veranstaltungsreihe des Zentralinstituts für Kunstgeschichte rückt die außerordentliche Bedeutung dieses von Friedrich Ludwig von Sckell gestalteten historischen Gartens neu ins Blickfeld: als Kunstwerk und Kulturzeugnis, als Erholungsort und Lebensraum.&lt;/p&gt; &lt;p&gt;Zur Auftaktveranstaltung am 27. Februar 2019 mit Vorträgen und einer öffentlichen Podiumsdiskussion sind interessierte Bürgerinnen und Bürger herzlich eingeladen.&lt;/p&gt; &lt;p&gt;&amp;nbsp;&lt;/p&gt; &lt;p&gt;&amp;nbsp;&lt;/p&gt; &lt;p&gt;18.30 Uhr - Begrüßung&lt;/p&gt; &lt;p&gt;Prof. em. Dr. Adrian von Buttlar Technische Universität Berlin&lt;br /&gt; Was ist und wie funktioniert ein Englischer Garten?&lt;/p&gt; &lt;p&gt;Prof. Dr. Iris Lauterbach&lt;br /&gt; Zentralinstitut für Kunstgeschichte, München&lt;/p&gt; &lt;p&gt;„Charakteristik eines Volksgartens“: Der Englische Garten und das öffentliche Grün in München&lt;/p&gt; &lt;p&gt;Jost Albert&lt;br /&gt; Gartendirektor der Bayerischen Verwaltung der staatlichen Schlösser, Gärten und Seen, München&lt;br /&gt; Gestaltung und Pflege eines Gartendenkmals von internationalem Rang: Herausforderungen von 1789 bis ins 21. Jahrhundert&lt;/p&gt; &lt;p&gt;20.00 Uhr Öffentliche Diskussion&lt;/p&gt; &lt;p&gt;Moderation: Prof. Dr. Wolfgang Augustyn Zentralinstitut für Kunstgeschichte, München&lt;/p&gt; &lt;p&gt;&amp;nbsp;&lt;/p&gt; &lt;p&gt;&amp;nbsp;&lt;/p&gt; 
DTSTART:20190227T183000
DTEND:20190227T000000
LOCATION:Max-Joseph-Saal der Residenz, Residenzstraße 1
ORGANIZER:Zentralinstitut für Kunstgeschichte
END:VEVENT
END:VCALENDAR