BEGIN:VCALENDAR
VERSION:2.0
PRODID:-//Stadtgeschichte München//DE
CALSCALE:GREGORIAN
BEGIN:VEVENT
UID:16889@stadtgeschichte-muenchen.de
SUMMARY:Die SS in der Bundesrepublik
DESCRIPTION:&lt;p&gt;Im Gespräch&lt;/p&gt; &lt;p&gt;Nach dem Ende des Zweiten Weltkriegs lebten über eine halbe Millionen ehemalige SS-Angehörige in Westdeutschland. Obwohl die SS für die schwersten NS-Verbrechen verantwortlich war und 1946 als verbrecherische Organisation verboten wurde, konnten sich die allermeisten ihrer Mitglieder weitgehend lautlos in die bundesrepublikanische Gesellschaft integrieren. Dieser Widerspruch führte in der Öffentlichkeit immer wieder zu Skandalen um die SS-Vergangenheit einzelner Personen sowie zu Diskussionen über die Grenzen der Integration von NS-Tätern und den Umgang mit ihnen.&lt;/p&gt; &lt;p&gt;Zu diesem Thema liegen nun zwei neue Studien vor: Der Historiker Andreas Eichmüller (NS-Dokumentationszentrum) untersucht in seinem Buch „Die SS in der Bundesrepublik“ die Debatten um die SS bis in die 1980er Jahre und betrachtet insbesondere das sich verändernde Bild der SS in der Öffentlichkeit. Der von Jan Erik Schulte (Leiter der Gedenkstätte Hadamar) mit herausgegebene Sammelband „Die SS nach 1945“ analysiert die Strafverfolgung der SS nach 1945, die personellen Seilschaften und politischen Kontinuitäten.&lt;/p&gt; &lt;p&gt;Andreas Eichmüller und Jan Erik Schulte stellen ihre beiden neu erschienenen Bücher vor und diskutieren über das Thema. Durch die Veranstaltung führt Johannes Hürter (Institut für Zeitgeschichte München-Berlin).&lt;/p&gt; &lt;p&gt;&amp;nbsp;&lt;/p&gt; 
DTSTART:20190129T190000
DTEND:20190129T000000
LOCATION:NS-Dokumentationszentrum München, Auditorium
ORGANIZER:NS-Dokumentationszentrum München
END:VEVENT
END:VCALENDAR