BEGIN:VCALENDAR
VERSION:2.0
PRODID:-//Stadtgeschichte München//DE
CALSCALE:GREGORIAN
BEGIN:VEVENT
UID:16909@stadtgeschichte-muenchen.de
SUMMARY:Die Maximiliansanlagen
DESCRIPTION:&lt;p&gt;Dieser Osterspaziergang führt entlang der Maximiliansanlagen, die König Max II. anlegen ließ. Es ist eine von Menschenhand modellierte Kunstlandschaft auf dem Hochufer der Isar, die vom Nicolaikircherl bis zur Georgskirche in Bogenhausen reicht. Integriert in diese Parkanlage wurden das Maximilianeum und der Friedensengel. Auch das von Gottfried Semper entworfene Richard-Wagner-Festspielhaus sollte hier ursprünglich seinen Platz finden. Doch dazu kam es nicht, stattdessen trifft man dort heute auf ein Denkmal für Ludwig II.&lt;/p&gt; 
DTSTART:20190422T110000
DTEND:20190422T133000
LOCATION:St. Nikolai am Gasteig, Innere Wiener Str. 1
ORGANIZER:MVHS München Mitte   
END:VEVENT
END:VCALENDAR