BEGIN:VCALENDAR
VERSION:2.0
PRODID:-//Stadtgeschichte München//DE
CALSCALE:GREGORIAN
BEGIN:VEVENT
UID:16926@stadtgeschichte-muenchen.de
SUMMARY:Das Lehel - Münchens älteste Vorstadt
DESCRIPTION:&lt;p&gt;Wenig ist geblieben vom sumpfigen Überschwemmungsgebiet der Isar, das von zehn Bächen durchzogen war und in dem sich eine riesige Seenplatte ausbreitete. Später, mit dem Bau der zwei Prachtstraßen Maximilian- und Prinzregentenstraße und den hohen Kaimauern an der Isar, veränderte sich die Struktur des Gebietes vollständig. Die ehemalige &quot;Kleine-Leute-Siedlung&quot; wurde ein typisches Innenstadtrandgebiet mit Behörden, Versicherungen, Banken und Museen und zählt heute zu den teuersten Wohngegenden Münchens.&lt;/p&gt; 
DTSTART:20190620T110000
DTEND:20190620T133000
LOCATION:im Innenhof des Isartors, Isartorplatz
ORGANIZER:MVHS München Mitte   
END:VEVENT
END:VCALENDAR