BEGIN:VCALENDAR
VERSION:2.0
PRODID:-//Stadtgeschichte München//DE
CALSCALE:GREGORIAN
BEGIN:VEVENT
UID:16927@stadtgeschichte-muenchen.de
SUMMARY:Jubiläumsausstellung im Alpinen Museum - 
DESCRIPTION:&lt;p&gt;Am 9. Mai 1869 wurde der Alpenverein im Münchner &quot;Gasthof zur blauen Traube&quot; gegründet. Seine ersten Mitglieder wollten die Erforschung der Alpen und eine bessere Erschließung des kaum bekannten Hochgebirges für Touristen fördern. Schon in wenigen Jahrzehnten entstand ein dichtes Hütten- und Wegenetz. Mit dem stetigen Generationenwechsel kamen weitere Anliegen des Vereins, die heute vom Klettern als olympische Disziplin bis zur aktiven Beteiligung am Naturschutz im Alpenraum reichen.&lt;/p&gt; 
DTSTART:20190627T103000
DTEND:20190627T120000
LOCATION:Alpines Museum
ORGANIZER:MVHS München Mitte   
END:VEVENT
END:VCALENDAR