BEGIN:VCALENDAR
VERSION:2.0
PRODID:-//Stadtgeschichte München//DE
CALSCALE:GREGORIAN
BEGIN:VEVENT
UID:16933@stadtgeschichte-muenchen.de
SUMMARY:Das Wiesn-Viertel
DESCRIPTION:&lt;p&gt;Östlich der Theresienwiese entstand das letzte Stadterweiterungsgebiet, das noch im Sinne des geometrischen Städtebaus verwirklicht wurde. Es entstanden noble Wohn- und Mietshäuser, die das Bild rund um den Kaiser-Ludwig-Platz prägen. Aber natürlich gehören zu diesem Rundgang auch die Kolossalstatue der Bavaria mit der Ruhmeshalle und die neugotische St. Paulskirche.&lt;/p&gt; 
DTSTART:20190707T110000
DTEND:20190707T130000
LOCATION:St. Paul, vor dem Kirchenportal, St.-Pauls-Platz 11
ORGANIZER:MVHS München Mitte   
END:VEVENT
END:VCALENDAR