BEGIN:VCALENDAR
VERSION:2.0
PRODID:-//Stadtgeschichte München//DE
CALSCALE:GREGORIAN
BEGIN:VEVENT
UID:16938@stadtgeschichte-muenchen.de
SUMMARY:Abendliches München - Ein Rundgang nicht nur für Berufstätige
DESCRIPTION:&lt;p&gt;Was gibt es Schöneres, als an einem Abend durch München zu bummeln und - ganz nebenbei - allerlei Wissenswertes über die Stadt, ihre Sehenswürdigkeiten und ihre Geschichte zu erfahren? Dieser abendliche Rundgang führt zu manch wohlbekannter Sehenswürdigkeit, aber auch zu versteckten Innenhöfen und Brunnen und bietet all jenen, die tagsüber keine Zeit haben, die Möglichkeit, München und seine Winkel in der Altstadt besser kennen zu lernen.&lt;/p&gt; 
DTSTART:20190724T190000
DTEND:20190724T210000
LOCATION:unter dem Torbogen des Karlstors, Karlsplatz/Stachus
ORGANIZER:MVHS München Mitte   
END:VEVENT
END:VCALENDAR