BEGIN:VCALENDAR
VERSION:2.0
PRODID:-//Stadtgeschichte München//DE
CALSCALE:GREGORIAN
BEGIN:VEVENT
UID:16940@stadtgeschichte-muenchen.de
SUMMARY:Geschichtsträchtige Straßennamen (Teil 1)
DESCRIPTION:&lt;p&gt;Wer im späten Mittelalter Nachtwäsche kaufen wollte, ging oftmals zum &quot;Schlafhaubenkramer-Eckhaus&quot;. Diese Adresse sucht man heute vergeblich. Den Münchner Radlsteg dagegen gibt es noch, doch wie kam diese schmale Gasse zu ihrem Namen? Durfte sie etwa nur mit dem Drahtesel befahren werden? Und wer war früher unter den Laubengängen, in den sogenannten &quot;Finsteren und Lichten Bögen&quot;, am heutigen Marienplatz anzutreffen? Lassen Sie sich von ehemaligen und aktuellen Straßenbezeichnungen spannende und oftmals vergessene Kapitel aus der Münchner Stadtgeschichte erzählen.&lt;/p&gt; 
DTSTART:20190728T110000
DTEND:20190728T123000
LOCATION:Heilig-Geist-Kirche, vor dem Kircheneingang auf der Seite des Viktualienmarkts
ORGANIZER:MVHS München Mitte   
END:VEVENT
END:VCALENDAR