BEGIN:VCALENDAR
VERSION:2.0
PRODID:-//Stadtgeschichte München//DE
CALSCALE:GREGORIAN
BEGIN:VEVENT
UID:16951@stadtgeschichte-muenchen.de
SUMMARY:„Menschen, die aus der Ferne kamen“
DESCRIPTION:&lt;p&gt;Was wäre München ohne all die Menschen, die, aus der Ferne gekommen, hier lebten und wirkten - und zum Prosperieren der Stadt beigetragen haben? Den einen, wie Baumeistern und Komponisten, wurden Ruhm und Ehre zuteil. Andere hingegen wurden, wie die ersten italienischen und türkischen &quot;Gastarbeiter&quot; im Mittelalter, als Arbeitskraft ausgebeutet und von der Nachwelt so gut wie vergessen. Doch so manches &quot;schweigsam&quot; dastehende Gebäude in der Münchner Altstadt legt heute noch Zeugnis ab vom Schaffen dieser Menschen.&lt;/p&gt; 
DTSTART:20190901T110000
DTEND:20190901T130000
LOCATION:vor dem Hauptportal der Frauenkirche (Dom)
ORGANIZER:MVHS München Mitte   
END:VEVENT
END:VCALENDAR