BEGIN:VCALENDAR
VERSION:2.0
PRODID:-//Stadtgeschichte München//DE
CALSCALE:GREGORIAN
BEGIN:VEVENT
UID:16971@stadtgeschichte-muenchen.de
SUMMARY:Exkursion zur KZ-Gedenkstätte Dachau
DESCRIPTION:&lt;p&gt;Über das ehemalige SS-Schulungslager und Munitionsdepot Hochbrück) und eines der KZ-Außenlager (Gut Hochmutting) fahren Sie zum ersten großen Zentrallager des NS-Regimes, zum KZ Dachau. Während der Führung dort haben wir Gelegenheit, u.a. die Ausstellung sowie das einstige Lagergefängnis, den sogenannten Bunker, zu besuchen. Anschließend können Sie die ehemalige SS-Schießstätte in Hebertshausen besichtigen.&lt;/p&gt; &lt;p&gt;Die Veranstaltung findet bei jeder Witterung statt. Streckenlänge ca. 35 Kilometer, mittags Einkehr in einem Gasthof. Geeigneter Erwachsene und Jugendliche.&lt;/p&gt; 
DTSTART:20190728T100000
DTEND:20190728T170000
LOCATION:U-Bahnhof Garching-Hochbrück (U6)
ORGANIZER:MVHS München Nord
END:VEVENT
END:VCALENDAR