BEGIN:VCALENDAR
VERSION:2.0
PRODID:-//Stadtgeschichte München//DE
CALSCALE:GREGORIAN
BEGIN:VEVENT
UID:16977@stadtgeschichte-muenchen.de
SUMMARY:Freimann im Wandel
DESCRIPTION:&lt;p&gt;Freimann ändert sich. Jahrzehntelang war das große Eisenbahnausbesserungswerk Garant für Kontinuität und Stabilität und hat das Gesicht Freimanns im 20. Jahrhundert ganz wesentlich geprägt. Gegenwärtig bestimmen große Baustellen das Bild auf dem alten Industriegelände. Neben privaten und öffentlichen Unternehmen und Einrichtungen sind riesige Firmenkomplexe im Bau. Kurz vor der Eröffnung steht bereits die MOTORWORLD München, wo künftig in denkmalgeschützten Hallen Oldtimer und Liebhaberfahrzeuge bestaunt werden können. Sofern das Gelände bereits begehbar ist, werden wir es im Rahmen der Führung ebenfalls besichtigen.&lt;/p&gt; 
DTSTART:20190605T160000
DTEND:20190605T180000
LOCATION:Frankplatz/Edmund-Rumpler- Str.
ORGANIZER:
END:VEVENT
END:VCALENDAR