BEGIN:VCALENDAR
VERSION:2.0
PRODID:-//Stadtgeschichte München//DE
CALSCALE:GREGORIAN
BEGIN:VEVENT
UID:16979@stadtgeschichte-muenchen.de
SUMMARY:BMW-Werk
DESCRIPTION:&lt;p&gt;Die BMW Group München baut mehr als 900 Autos und bis zu 1400 Motoren pro Tag und beschäftigt rund 9000 Personen aus weltweit mehr als 50 Ländern. Der gesamte Produktionsdurchlauf von der Stahlrolle bis zum fertigen Fahrzeug wird bei dieser Werksbesichtigung gezeigt. Stationen sind Presswerk, Karosseriebau, Lackiererei und Motorenbau. Auch die besonderen Arbeitszeiten und die Probleme, die ein Großbetrieb inmitten von Wohnsiedlungen mit sich bringt, werden thematisiert. Für Erwachsene und Kinder ab sechs Jahren geeignet.&lt;/p&gt; 
DTSTART:20190401T150000
DTEND:20190401T173000
LOCATION:BMW Welt, lnfocounter Nord · (U3 Olympiazentrum) · Am Olympiapark 1
ORGANIZER:MVHS München Nord
END:VEVENT
END:VCALENDAR