BEGIN:VCALENDAR
VERSION:2.0
PRODID:-//Stadtgeschichte München//DE
CALSCALE:GREGORIAN
BEGIN:VEVENT
UID:16990@stadtgeschichte-muenchen.de
SUMMARY:Münchens Untergrund: die Abwasserkanäle
DESCRIPTION:&lt;p&gt;Seit über 150 Jahren werden unter den Münchner Straßen Kanäle gebaut und unterhalten. In ihnen fließt das Schmutzwasser aus Haushalten und Betrieben zu den Klärwerken. Mit Regenwasser vermischt, wird das Abwasser besonders nach Gewitterregen in großen unterirdischen Rückhaltebecken zwischengespeichert. Sie besichtigen bei dieser Führung zwei über 100 Jahre alte Hauptkanäle und eine Regenrückhalteanlage. Die Exkursion erfolgt mit der U-Bahn, es müssen ca. 15 Minuten Fußweg zurückgelegt werden. Die Führung endet an der Akademiestraße, Ecke Türkenstraße.&lt;/p&gt; 
DTSTART:20190503T090000
DTEND:20190503T110000
LOCATION:Parkplatz des Nordfriedhofs - Ungererstr., gegenüber Echinger Str.
ORGANIZER:MVHS München Nord
END:VEVENT
END:VCALENDAR