BEGIN:VCALENDAR
VERSION:2.0
PRODID:-//Stadtgeschichte München//DE
CALSCALE:GREGORIAN
BEGIN:VEVENT
UID:17001@stadtgeschichte-muenchen.de
SUMMARY:25 Jahre Stadtteilzentrum Freimann
DESCRIPTION:&lt;p&gt;Das Stadtteilzentrum Freimann feiert Geburtstag! Seit inzwischen 25 Jahren wird auf dem Gelände der Keilberthschule ein buntes Programm von Kursen und Veranstaltungen angeboten. Überzeugen Sie sich selbst und informieren Sie sich an unserem Aktionsstand auf dem großen Schulfest der Keilbertschule!&lt;/p&gt; 
DTSTART:20190503T150000
DTEND:20190503T180000
LOCATION:MVHS • Keilberthstr. 6 (2. Stock)
ORGANIZER:MVHS München Nord
END:VEVENT
END:VCALENDAR