BEGIN:VCALENDAR
VERSION:2.0
PRODID:-//Stadtgeschichte München//DE
CALSCALE:GREGORIAN
BEGIN:VEVENT
UID:17010@stadtgeschichte-muenchen.de
SUMMARY:Von der Klosterschwaige zum Großstadtrevier
DESCRIPTION:&lt;p&gt;Milbertshofen verbindet man mit dem herben Charme einer Arbeitervorstadt im Schatten eines riesigen Automobilherstellers. BMW produziert hier seit 1923. Die spektakuläre BMW Welt und das neugestaltete BMW-Museum sind Magnete nicht nur für Technikbegeisterte. Bei der Führung im einstigen Dorf Milbertshofen kann man aber auch die Reste alter Bauernhöfe und den alten Dorfkern entdecken und stößt auf Orte des Gedenkens. Ein Rundgang mit vielen Geschichten rund ums Stadtviertel Milbertshofen.&lt;/p&gt; 
DTSTART:20190714T110000
DTEND:20190714T130000
LOCATION:am BMW Motorradzentrum - Ecke Frankfurter Ring/Knorrstr.
ORGANIZER:MVHS München Nord
END:VEVENT
END:VCALENDAR