BEGIN:VCALENDAR
VERSION:2.0
PRODID:-//Stadtgeschichte München//DE
CALSCALE:GREGORIAN
BEGIN:VEVENT
UID:17023@stadtgeschichte-muenchen.de
SUMMARY:lugulus, Hübschnerinnen und Hexenverfolgung
DESCRIPTION:&lt;p&gt;Ein Spaziergang durch die Münchner Altstadt führt zurück in die Zeit des Mittelalters und gibt Aufschluss über die Lebensbedingungen der zu jener Zeit marginalisierten Bevölkerungsgruppen der Henker, der sogenannten „Hexen&quot; und „Hübschnerinnen&quot;. Welche Ängste und Glaubensvorstellungen herrschten damals vor? Wie sah die Gerichtsbarkeit aus? Welches Ausmaß nahm die Hexenverfolgung in München an? Wo wohnte einst der Scharfrichter und wer durfte das städtische Frauenhaus frequentieren?&lt;/p&gt; &lt;p&gt;Diese Führung ist für Kinder nicht geeignet.&lt;/p&gt; 
DTSTART:20190915T140000
DTEND:20190915T160000
LOCATION:Sendlinger Tor, unter dem Torbogen
ORGANIZER:MVHS München Mitte   
END:VEVENT
END:VCALENDAR