BEGIN:VCALENDAR
VERSION:2.0
PRODID:-//Stadtgeschichte München//DE
CALSCALE:GREGORIAN
BEGIN:VEVENT
UID:17040@stadtgeschichte-muenchen.de
SUMMARY:Vom Böhmerwaldplatz zu den Franziskanern von St. Gabriel
DESCRIPTION:&lt;p&gt;Unser Spaziergang über grüne Plätze und durch versteckte Innenhöfe startet am östlichen Rand Bogenhausens und spürt den Umbrüchen der Zeit ab den 20er Jahren nach, mit Ausblicken bis in die Gegenwart. Noble Wohnquartiere und eine Schule für „die Töchter aus höheren Ständen&quot; erwarten uns. Von Wohnungsnöten, Genossenschaftsbauten, Nachverdichtung und Veränderungen des Viertels in der Nazizeit wird die Rede sein, aber auch vom Leben und Glauben in den 1920er und 30er Jahren in Bogenhausen. Ziel ist die großartige, eher unbekannte Kirche St. Gabriel von 1926.&lt;/p&gt; 
DTSTART:20190705T140000
DTEND:20190705T160000
LOCATION:Richard-Strauss-Str./Ecke Mühlbaurstr. - Richard-Strauss-Str.
ORGANIZER:MVHS München Ost
END:VEVENT
END:VCALENDAR