BEGIN:VCALENDAR
VERSION:2.0
PRODID:-//Stadtgeschichte München//DE
CALSCALE:GREGORIAN
BEGIN:VEVENT
UID:17074@stadtgeschichte-muenchen.de
SUMMARY:Der Donaulimes in Bayern auf dem Weg zum UNESCO-Welterbe
DESCRIPTION:&lt;p&gt;Über mehrere Jahre hinweg erstellten Bayern, Österreich, die Slowakei und Ungarn einen gemeinsamen Welterbeantrag „Grenzen des Römischen Reichs – Donaulimes“. Nach der Einreichung in Paris zum 1. Februar 2018 wird der Antrag durch ICOMOS evaluiert. In dem Vortrag werden die Entwicklung hin zum Antrag, der Inhalt des Antrags und die gemeinsame Zielsetzung erläutert. Eine besondere Rolle spielen die für Bayern vorgeschlagenen „Component Parts“, also Bad Gögging, Eining, Weltenburg, Regensburg, Straubing, Künzing und Passau.&lt;/p&gt; 
DTSTART:20190311T190000
DTEND:20190311T000000
LOCATION:Bayerisches Landesamt für Denkmalpflege | Hofgraben 4 
ORGANIZER:Bayerisches Landesamt für Denkmalpflege
END:VEVENT
END:VCALENDAR