BEGIN:VCALENDAR
VERSION:2.0
PRODID:-//Stadtgeschichte München//DE
CALSCALE:GREGORIAN
BEGIN:VEVENT
UID:17079@stadtgeschichte-muenchen.de
SUMMARY:Das Beste südlich von München
DESCRIPTION:&lt;p&gt;Südlich von München glitzern Seen, Sonne, Gipfel - und natürlich laden Biergärten zum Verweilen ein. Doch auch abseits dessen, was jeder mit Oberbayern assoziiert, bietet das südliche Münchner Umland Schmankerl für jede Kragenweite. Die Autoren Klaus Bovers und Andreas M. Bräu - beide in Bayern zu Hause - haben sich auf Spurensuche begeben und stellen Ihnen ihre Lieblingsorte vor. Lassen Sie sich inspirieren für Ihren nächsten Ausflug!&lt;/p&gt; &lt;p&gt;In Kooperation mit dem Stadtteilkulturzentrum Guardini90 und Kultur in Hadern e.V.&lt;/p&gt; 
DTSTART:20190404T193000
DTEND:20190404T210000
LOCATION:Guardini90 • Guardinistr. 90
ORGANIZER:MVHS München Süd
END:VEVENT
END:VCALENDAR