BEGIN:VCALENDAR
VERSION:2.0
PRODID:-//Stadtgeschichte München//DE
CALSCALE:GREGORIAN
BEGIN:VEVENT
UID:17087@stadtgeschichte-muenchen.de
SUMMARY:Kriegersiedlung in Sendling
DESCRIPTION:&lt;p&gt;Um kriegsverletzten Soldaten aus dem 1. Weltkrieg die Rückkehr in die Heimat zu erleichtern, sollte ihnen der Erwerb eines kleinen Hauses mit Garten ermöglicht werden. 1919 wurde der Kriegsbeschädigtenverein gegründet, im Juli des gleichen Jahres die Baugenossenschaft des Vereins. Nach dem Erwerb des Baugrunds gab es 1920 den ersten Spatenstich. Lernen Sie die Geschichte der Kriegersiedlung kennen.&lt;br /&gt; Die Architekten Peter Schneider, Max Graessei und Gerald Leindecker entwarfen die Siedlung, die heute unter Ensembleschutz steht.&lt;br /&gt; Wenn Sie einen Gebärdensprachdolmetscher benötigen, senden Sie bitte eine E-Mail an barrierefrei-lernen@mvhs.de.&lt;/p&gt; 
DTSTART:20190530T150000
DTEND:20190530T163000
LOCATION:Wirtshaus in Sendling, Albert- Roßhaupter-Str. 61
ORGANIZER:MVHS München Süd
END:VEVENT
END:VCALENDAR