BEGIN:VCALENDAR
VERSION:2.0
PRODID:-//Stadtgeschichte München//DE
CALSCALE:GREGORIAN
BEGIN:VEVENT
UID:17126@stadtgeschichte-muenchen.de
SUMMARY:Klinikum der Universität München
DESCRIPTION:&lt;p&gt;Auf dem Campus Großhadern befindet sich eines der größten und modernsten Operationszentren Europas. Auf etwa 14.500 Quadratmetern Fläche stehen mit modernster Medizintechnik ausgestattete Operationssäle für stationäre Patienten, ein ambulantes OP-Zentrum mit vier OPs sowie 70 Intensivbetten und eine interdisziplinäre Notaufnahme bereit. Im Anschluss an eine Einführung in das Innenleben und die Struktur des Klinikums besuchen wir das OP-Zentrum und gewinnen u.a. Einblicke in die Sterilgutversorgungsabteilung und die Zentrale Notaufnahme.&lt;/p&gt; 
DTSTART:20190507T160000
DTEND:20190507T173000
LOCATION:Klinikum der Universität München-Großhadern ■ Haupteingang, Eingangshalle ■ Marchioninistr. 15
ORGANIZER:MVHS München Süd
END:VEVENT
END:VCALENDAR