BEGIN:VCALENDAR
VERSION:2.0
PRODID:-//Stadtgeschichte München//DE
CALSCALE:GREGORIAN
BEGIN:VEVENT
UID:17149@stadtgeschichte-muenchen.de
SUMMARY:Schiavi di Hitler
DESCRIPTION:
DTSTART:20190906T163000
DTEND:20190906T180000
LOCATION:Ehrenbürgstr. 9, Osteingang vor Kindergarten
ORGANIZER:MVHS München West
END:VEVENT
END:VCALENDAR