BEGIN:VCALENDAR
VERSION:2.0
PRODID:-//Stadtgeschichte München//DE
CALSCALE:GREGORIAN
BEGIN:VEVENT
UID:17199@stadtgeschichte-muenchen.de
SUMMARY:Untermenzinger Friedhof
DESCRIPTION:&lt;p&gt;Wir besuchen die Gräber ausgewählter namhafter Untermenzingerinnen und Untermenzinger im alten und neuen Teil (Parkfriedhof) wie Rosa Aschenbrenner, Korbinian Beer, Heinz Bosl, Josef Felder, Josef Grandl, Hl. Nepomuk, Matthias Pöschl, Christa Williams, Peter Winter und Anton Würz und erfahren dabei Wissenswertes aus deren Leben.&lt;/p&gt; 
DTSTART:20190411T160000
DTEND:20190411T173000
LOCATION:Friedhof Untermenzing, Eingang Eversbuschstr. 9a
ORGANIZER:MVHS München West
END:VEVENT
END:VCALENDAR