BEGIN:VCALENDAR
VERSION:2.0
PRODID:-//Stadtgeschichte München//DE
CALSCALE:GREGORIAN
BEGIN:VEVENT
UID:17230@stadtgeschichte-muenchen.de
SUMMARY:Die Blutenburg 
DESCRIPTION:&lt;p&gt;Das Gebäudeensemble aus dem 15. Jahrhundert wurde Anfang der achtziger Jahre renoviert und für die Zwecke der Internationalen Jugendbibliothek (IJB) ausgebaut. Der Rundgang durch die Schlossanlage einschließlich der Kapelle macht mit ihrer Geschichte und ihren kunsthistorischen Schätzen bekannt und stellt zugleich die Arbeit der weltweit einzigartigen Bibliothek für internationale Kinderund Jugendliteratur vor. Besichtigt werden auch das Erich-Kästner- Zimmer, das Michael-Ende-Museum, das Binette-Schroeder-Kabinett und der James-Krüss-Turm.&lt;/p&gt; &lt;p&gt;In Kooperation mit der IJB.&lt;/p&gt; 
DTSTART:20190322T150000
DTEND:20190322T170000
LOCATION:Eingang Blutenburg, Seldweg 15
ORGANIZER:MVHS München West
END:VEVENT
END:VCALENDAR