BEGIN:VCALENDAR
VERSION:2.0
PRODID:-//Stadtgeschichte München//DE
CALSCALE:GREGORIAN
BEGIN:VEVENT
UID:17247@stadtgeschichte-muenchen.de
SUMMARY:Die Glaskathedrale der Firma Rosenthal
DESCRIPTION:&lt;p&gt;Der Gründungsdirektor des legendären Bauhauses, Walter Gropius, plante die „Glaskathedrale&quot; als Produktionsstätte der Firma Rosenthal um 1970 nach dem Motto: Hochwertige Produkte können nur in anspruchsvoller Umgebung hergestellt werden. Zum Bauhausjubiläum richtet die Stadt Amberg hier eine Dauerausstellung ein und informiert über die geniale Verbindung zwischen Architektur und Design. In der historischen Altstadt Ambergs und seinen Kirchen begegnen wir Werken berühmter Künstler wie Jan Pollack, J. B. Zimmermann und Cosmas Damian Asam.&lt;/p&gt; &lt;p&gt;Busexkursion in Kooperation mit Reisen und Bildung GmbH. Es gelten die AGB des Reiseveranstalters, diese erhalten Sie unter www.reisen-und-bildung.de/bedingung.html oder auf Anfrage im Fachgebiet unter studienreisen@mvhs.de.&lt;/p&gt; 
DTSTART:20190718T080000
DTEND:20190718T200000
LOCATION:Alter Botanischer Garten - Elisenstr.
ORGANIZER:MVHS
END:VEVENT
END:VCALENDAR