BEGIN:VCALENDAR
VERSION:2.0
PRODID:-//Stadtgeschichte München//DE
CALSCALE:GREGORIAN
BEGIN:VEVENT
UID:17249@stadtgeschichte-muenchen.de
SUMMARY:Sommerfrische am Starnberger See
DESCRIPTION:&lt;p&gt;Wie kommt es, dass ein eiszeitliches Relikt zu einem der teuersten Plätze der Erde wird? Wir folgen der jahrhundertelangen Entwicklung rund um den Starnberger See auf kleinen Spaziergängen und per Schiff, wandeln auf königlichen und künstlerischen Spuren und lassen uns mitnehmen zu einer Zeit- und Gedankenreise von Sisi bis Oskar Maria Graf, von Bayern bis Italien. Wir streifen einige der über 20 Schlösser, befassen uns mit der Roseninsel und dem UNESCO Welterbe und genießen den tatsächlich und gedanklich weiten Horizont am See.&lt;/p&gt; 
DTSTART:20190804T100000
DTEND:20190804T170000
LOCATION:Bahnhof Starnberg, Seeseite
ORGANIZER:MVHS
END:VEVENT
END:VCALENDAR