BEGIN:VCALENDAR
VERSION:2.0
PRODID:-//Stadtgeschichte München//DE
CALSCALE:GREGORIAN
BEGIN:VEVENT
UID:1725@stadtgeschichte-muenchen.de
SUMMARY:Prinzregent Luitpold. Ein Rückblick zu seinem 100. Todestag
DESCRIPTION:&lt;div&gt;Er war der volkst&amp;uuml;mlichste Herrscher des K&amp;ouml;nigreichs Bayern. Wie kam es dazu und welche Wirkung hatte seine Regentschaft f&amp;uuml;r das Haus Wittelsbach?&lt;/div&gt; &lt;div&gt;&amp;nbsp;&lt;/div&gt; &lt;div&gt;Seine Jagdleidenschaft und seine einfache Lebensweise brachten ihn der Bev&amp;ouml;lkerung nahe - sein Verh&amp;auml;ltnis zur Kunst verband ihn mit dem B&amp;uuml;rgertum.&lt;/div&gt; &lt;div&gt;&amp;nbsp;&lt;/div&gt; &lt;div&gt;Auf unserem Rundgang werden wir seine Pers&amp;ouml;nlichkeit kennen lernen, seine Aktivit&amp;auml;ten auf der politischen B&amp;uuml;hne sowie die M&amp;auml;chte, die ihn umgaben. Wir kl&amp;auml;ren, welchen Wert Luitpold auf seine Garderobe legte, befassen uns mit der Geschichte der Prinzregententorte und finden heraus, wo er in M&amp;uuml;nchen seine Spuren hinterlassen hat. Vielleicht kommt er auch selbst zu Wort ...&lt;/div&gt; &lt;p&gt;&amp;nbsp;&lt;/p&gt;
DTSTART:20120513T110000
DTEND:20120513T130000
LOCATION: Nationalmuseum, Eingang Prinzregentenstr. 3
ORGANIZER:DGB-Bildungswerk Bayern e.V. Region München
END:VEVENT
END:VCALENDAR