BEGIN:VCALENDAR
VERSION:2.0
PRODID:-//Stadtgeschichte München//DE
CALSCALE:GREGORIAN
BEGIN:VEVENT
UID:17251@stadtgeschichte-muenchen.de
SUMMARY:Kaiserin Elisabeth Museum in Possenhofen
DESCRIPTION:&lt;p&gt;Im historischen Bahnhof Possenhofen befindet sich das „Kaiserin Elisabeth Museum&quot;. Hier traf die österreichische Kaiserin regelmäßig mit ihrem Salonwagen ein, um ihre bayerische Heimat zu besuchen. Eine Führung und zahlreiche Objekte geben Einblick in das „wahre&quot; Leben der schönen Sisi: von ihrer Kindheit und Jugend in München und Possenhofen über ihre Heirat mit Kaiser Franz Joseph, ihren Schönheitskult und ihre leidenschaftliche Liebe zum Reitsport bis zu ihrem tragischen Tod am Genfer See.&lt;/p&gt; &lt;p&gt;Das Museum wird ausschließlich für uns geöffnet.&lt;/p&gt; 
DTSTART:20190922T103000
DTEND:20190922T120000
LOCATION:Kaiserin Elisabeth Museum (Bahnhof Possenhofen, S6 nach Tutzing)
ORGANIZER:MVHS
END:VEVENT
END:VCALENDAR