BEGIN:VCALENDAR
VERSION:2.0
PRODID:-//Stadtgeschichte München//DE
CALSCALE:GREGORIAN
BEGIN:VEVENT
UID:17258@stadtgeschichte-muenchen.de
SUMMARY:München entdecken - von Türen, Toren und Monumenten
DESCRIPTION:&lt;p&gt;An vielen Gebäuden geht man häufig achtlos vorbei. Wir interessieren uns für die Geschichten hinter den Mauern und fragen: Wer lebte in diesem Palais? Welche Position hatte der Besitzer inne? Warum steht eine Kugel in einem einsamen Tor? Wohin führte dieses Tor überhaupt? Nach dem Spaziergang vom Odeonsplatz zum Kunstareal werden Sie manches Denkmal und Bauwerk mit anderen Augen betrachten.&lt;/p&gt; 
DTSTART:20190602T110000
DTEND:20190602T123000
LOCATION:Feldherrnhalle - Odeonsplatz
ORGANIZER:MVHS
END:VEVENT
END:VCALENDAR