BEGIN:VCALENDAR
VERSION:2.0
PRODID:-//Stadtgeschichte München//DE
CALSCALE:GREGORIAN
BEGIN:VEVENT
UID:17286@stadtgeschichte-muenchen.de
SUMMARY:Historisches Szeneviertel Haidhausen
DESCRIPTION:&lt;p&gt;Von den beliebten Marktständen führt der Weg zum Johannisplatz und weiter zum Weißenburger Platz. Das gründerzeitliche Franzosenviertel bietet Stadtgeschichte und aktuelle Kunst. Wir besuchen die aktuelle Ausstellung in der Lothringer13 Halle, eine städtische Institution für internationale Gegenwartskunst, Im „RROOM - Kunstbar und Leseraum&quot; der Halle - lassen wir den Abend mit einem Umtrunk ausklingen.&lt;/p&gt; &lt;p&gt;In Kooperation mit den städtischen Kunsträumen.&lt;/p&gt; 
DTSTART:20190326T160000
DTEND:20190326T180000
LOCATION:Wiener Platz, am Maibaum
ORGANIZER:MVHS
END:VEVENT
END:VCALENDAR