BEGIN:VCALENDAR
VERSION:2.0
PRODID:-//Stadtgeschichte München//DE
CALSCALE:GREGORIAN
BEGIN:VEVENT
UID:17289@stadtgeschichte-muenchen.de
SUMMARY:Die Ludwigstraße - von der Staatsbibliothek zum Siegestor
DESCRIPTION:&lt;p&gt;Als Friedrich Gärtner ab 1827 von Ludwig I. mit der Weiterführung der Ludwigstraße beauftragt wird, ändern sich durch die Ansiedlung von raumgreifenden Institutionen wie der Staatsbibliothek und der Universität, die auch innen besichtigt werden, Funktion und Gestalt des nördlichen Abschnittes. Trotzdem wirkt die Straße heute immer noch wie aus „einem Guss&quot;.&lt;/p&gt; 
DTSTART:20190503T160000
DTEND:20190503T173000
LOCATION:Vor der Bayerischen Staatsbibliothek - Ludwigstr. 16
ORGANIZER:MVHS
END:VEVENT
END:VCALENDAR