BEGIN:VCALENDAR
VERSION:2.0
PRODID:-//Stadtgeschichte München//DE
CALSCALE:GREGORIAN
BEGIN:VEVENT
UID:1730@stadtgeschichte-muenchen.de
SUMMARY:Vier bedeutsame Münchner Kirchen aus der Zeit um 1900 - St. Anna im Lehel
DESCRIPTION:&lt;div&gt;Der Besuch von St. Maximilian am Tag des Offenen Denkmals 2011 hat vielleicht einen reizvollen Einstieg bieten k&amp;ouml;nnen, denn weitere M&amp;uuml;nchner Kirchen aus der Zeit um 1900 lohnen ebenfalls eine ausf&amp;uuml;hrlichere Betrachtung. Auch St. Anna im Lehel, St. Benno, St. Paul und St. Ursula in Schwabing nehmen im heutigen Stadtbild bedeutsamen Raum ein und belegen die Reaktionen des Erzbistums wie der M&amp;uuml;nchner Stadtverwaltung auf eine gravierend ver&amp;auml;nderte soziale wie konfessionelle Situation in der wachsenden Stadt. Dabei zeigen die vier Bauten die ganze Palette der f&amp;uuml;r Kirchenbauten wieder aufgegriffenen Stile - von malerisch akzentuierter Neoromanik bei St. Anna und St. Benno &amp;uuml;ber die aufwendige Neogotik St. Pauls bis hin zu St. Ursula, einem der sehr seltenen Kirchenbauten in den Formen der Neorenaissance.&lt;/div&gt; &lt;div&gt;&amp;nbsp;&lt;/div&gt; &lt;div&gt;Neben Einblicken in sehenswerte Zeugnisse der Architektur- und Kunstgeschichte M&amp;uuml;nchens um die vorletzte Jahrhundertwende bieten alle vier Bauten auch zahlreiche Hinweise auf die Sozialgeschichte der Stadt wie zudem auf die Prinzipien damaliger Stadtplanung.&lt;/div&gt; &lt;ul&gt; &lt;li&gt;St. Anna im Lehel, Mittwoch, 25.04.2012&lt;/li&gt; &lt;li&gt;St. Benno, Mittwoch, 23.05.2012&lt;/li&gt; &lt;li&gt;St. Paul, Mittwoch, 20.06.2012&lt;/li&gt; &lt;li&gt;St. Ursula, Mittwoch, 18.07.2012&lt;/li&gt; &lt;/ul&gt; &lt;div&gt;Die vier Rundg&amp;auml;nge beziehen sich aufeinander, k&amp;ouml;nnen aber auch einzeln besucht werden.&lt;/div&gt; &lt;p&gt;&amp;nbsp;&lt;/p&gt;
DTSTART:20120425T143000
DTEND:20120425T161500
LOCATION:St. Anna-Platz
ORGANIZER:DGB-Bildungswerk Bayern e.V. Region München
END:VEVENT
END:VCALENDAR