BEGIN:VCALENDAR
VERSION:2.0
PRODID:-//Stadtgeschichte München//DE
CALSCALE:GREGORIAN
BEGIN:VEVENT
UID:17341@stadtgeschichte-muenchen.de
SUMMARY:Gabriel von Seidl (1848-1913)
DESCRIPTION:&lt;p&gt;Gegen Ende des 19. Jahrhunderts veränderte sich München rasant. Neue Bauaufgaben forderten neue Lösungen, die Gabriel von Seidl mit einem kongenialen Team anpackte. Aus einer Bierbrauerdynastie stammend, schuf er eine neue Gasthauskultur, Kulturbauten wie das Nationalmuseum an der Prinzregentenstraße oder das Künstlerhaus am Lenbachplatz. Auch die Villa Franz von Lenbachs gehört zu seinen Bauten. Sein Engagement führte ihn zur Stadtgestaltung, die wir in Bad Tölz bewundern dürfen oder zur Rettung landschaftlicher Kostbarkeiten wie das Isartal.&lt;/p&gt; 
DTSTART:20190404T190000
DTEND:20190404T203000
LOCATION:Bürgerhaus Römerschanz • Dr.-Max-Str. 1
ORGANIZER:MVHS
END:VEVENT
END:VCALENDAR