BEGIN:VCALENDAR
VERSION:2.0
PRODID:-//Stadtgeschichte München//DE
CALSCALE:GREGORIAN
BEGIN:VEVENT
UID:1737@stadtgeschichte-muenchen.de
SUMMARY:Die Frauenkirche
DESCRIPTION:&lt;div&gt; &lt;div&gt;Eine F&amp;uuml;hrung durch den M&amp;uuml;nchner Dom, in dem es nicht nur um die Bauge&amp;not;schichte und die vielen Kunstsch&amp;auml;tze in seinem Inne&amp;not;ren geht, sondern auch um die sch&amp;ouml;nen und manchmal auch schaurigen alten Geschichten, die sich um M&amp;uuml;nchens Wahrzeichen ran&amp;not;ken. Ob Teufel und Wind, Sankt-Benno-Legende oder das traurige Schicksal des jungen Freifr&amp;auml;uleins von Ick-statt: Der Sagenfundus ist unersch&amp;ouml;pflich.&lt;/div&gt; &lt;/div&gt;
DTSTART:20120514T140000
DTEND:20120514T160000
LOCATION:Frauenplatz 12, vor dem Haupteingang
ORGANIZER:DGB-Bildungswerk Bayern e.V. Region München
END:VEVENT
END:VCALENDAR