BEGIN:VCALENDAR
VERSION:2.0
PRODID:-//Stadtgeschichte München//DE
CALSCALE:GREGORIAN
BEGIN:VEVENT
UID:1738@stadtgeschichte-muenchen.de
SUMMARY:Die Michaelskirche
DESCRIPTION:&lt;div&gt;Die kunst- und glaubensgeschichtlich wichtigste Kirche M&amp;uuml;nchens liegt - von den zahllosen Einkaufspassanten oft gar nicht wahrgenommen -mitten in der Fu&amp;szlig;g&amp;auml;ngerzone. Als Herzensprojekt des erzkatholischen Herzogs Wilhelm V. wurde sie 1597. fertiggestellt und dem damals noch jungen Jesuitenorden &amp;uuml;bergeben. Der heilige Michael st&amp;ouml;&amp;szlig;t schon drau&amp;not;&amp;szlig;en vor dem Portal den Teufel in die H&amp;ouml;lle - und weist damit den &amp;bdquo;neu&amp;not;modischen&amp;quot; Protestanten ganz im Sinne der Gegenreformation die T&amp;uuml;r. Diese k&amp;uuml;hle Sch&amp;ouml;nheit unter den M&amp;uuml;nchner Kirchen &amp;ouml;ffnet uns nicht nur die Augen f&amp;uuml;r ihre vielf&amp;auml;ltigen Kunstsch&amp;auml;tze, sondern sie stellt auch heute noch mit ihrer engagierten Citypastoral, den gro&amp;szlig;artigen Konzer&amp;not;ten und den anspruchsvollen Predigten der Jesuitenpatres eine Ausnah&amp;not;meerscheinung dar.&lt;/div&gt;
DTSTART:20120521T140000
DTEND:20120521T160000
LOCATION: Michaelskirche, Haupteingang
ORGANIZER:DGB-Bildungswerk Bayern e.V. Region München
END:VEVENT
END:VCALENDAR