BEGIN:VCALENDAR
VERSION:2.0
PRODID:-//Stadtgeschichte München//DE
CALSCALE:GREGORIAN
BEGIN:VEVENT
UID:17391@stadtgeschichte-muenchen.de
SUMMARY:Walk &amp; Talk: Gewissensfragen
DESCRIPTION:&lt;p&gt;Im Rahmen der Veranstaltungsreise „Walk &amp;amp; Talk“ der Stiftung Bildungszentrum sind Sie herzlich zu einer kostenlosen Informations- und Diskussionstour willkommen, die das Thema Gewissen im Kontext des Gesundheitswesens beleuchtet.&lt;/p&gt; &lt;p&gt;Bevor PD Dr. Oliver Rauprich über „Ethische Entscheidungen in der Medizin“ referieren wird, betrachten wir zwei Orte im Klinikum, die sich mit dem Vortragsthema künstlerisch und politisch verknüpfen: Den Jakobsbrunnen des Künstlers Josef Welling in der Medizinischen Klinik mit einer Skulptur Pater Rupert Mayers und den politischen und medizinethischen Gedenkort für die Frauen, die in der NS-Zeit in der Frauenklinik an der Maistraße zur Abtreibung gezwungen und / oder sterilisiert worden waren.&lt;/p&gt; 
DTSTART:20190320T160000
DTEND:20190320T190000
LOCATION:Medizinische Klinik Ziemssenstraße 1 
ORGANIZER:Münchner Schatzsuche
END:VEVENT
END:VCALENDAR