BEGIN:VCALENDAR
VERSION:2.0
PRODID:-//Stadtgeschichte München//DE
CALSCALE:GREGORIAN
BEGIN:VEVENT
UID:17402@stadtgeschichte-muenchen.de
SUMMARY:Oase der Erinnerung: Der alte Südfriedhof Teil I.
DESCRIPTION:&lt;p&gt;Wir erinnern bekannte und nicht so bekannte Persönlichkeiten Münchens, die sich teilweise selbst in Texten zum Sterben und zum Tod geäußert haben. Grabsteine und Grabgestaltung zeigen, wie sich im Lauf der Jahrhunderte die Haltung zum Tod veränderte. Warum gerade dieser Friedhof einer der lebendigsten Orte in München ist, kann bei diesem Spaziergang entdeckt werden.&lt;/p&gt; 
DTSTART:20190422T110000
DTEND:20190422T130000
LOCATION:Eingang am Stephansplatz
ORGANIZER:Münchner Schatzsuche
END:VEVENT
END:VCALENDAR