BEGIN:VCALENDAR
VERSION:2.0
PRODID:-//Stadtgeschichte München//DE
CALSCALE:GREGORIAN
BEGIN:VEVENT
UID:17439@stadtgeschichte-muenchen.de
SUMMARY:Dr. Gertrud Rank | Rund um den Kaiserhof
DESCRIPTION:
DTSTART:20190602T130000
DTEND:20190602T000000
LOCATION:Residenz München - Eingangshalle Residenzmuseum
ORGANIZER:Bayerische Schlösserverwaltung
END:VEVENT
END:VCALENDAR