BEGIN:VCALENDAR
VERSION:2.0
PRODID:-//Stadtgeschichte München//DE
CALSCALE:GREGORIAN
BEGIN:VEVENT
UID:17441@stadtgeschichte-muenchen.de
SUMMARY:Kirschblüten und Samurai
DESCRIPTION:&lt;p&gt;Im Rahmen der Ausstellung »Samurai - Pracht des japanischen Rittertums« (1.2.-30.6.2019) in der Kunsthalle München&lt;/p&gt; 
DTSTART:20190616T140000
DTEND:20190616T000000
LOCATION:Residenz München - Eingangshalle Residenzmuseum
ORGANIZER:Bayerische Schlösserverwaltung
END:VEVENT
END:VCALENDAR